BEGIN:VCALENDAR
VERSION:2.0
PRODID:concerti//https://www.concerti.de
CALSCALE:GREGORIAN
BEGIN:VTIMEZONE
TZID:Europe/Berlin
X-LIC-LOCATION:Europe/Berlin
BEGIN:DAYLIGHT
TZOFFSETFROM:+0100
TZOFFSETTO:+0200
TZNAME:CEST
DTSTART:19700329T020000
RRULE:FREQ=YEARLY;BYMONTH=3;BYDAY=-1SU
END:DAYLIGHT
BEGIN:STANDARD
TZOFFSETFROM:+0200
TZOFFSETTO:+0100
TZNAME:CET
DTSTART:19701025T030000
RRULE:FREQ=YEARLY;BYMONTH=10;BYDAY=-1SU
END:STANDARD
END:VTIMEZONE
BEGIN:VEVENT
UID:0a0a3bcb3ef74e9bbbd65b088d8c428a
SUMMARY:Vox et Spiritus
URL:https://www.concerti.de/termine/vox-et-spiritus-theaterfabrik-blaue-halle-wuerzburg-773773/
DTSTART;TZID=Europe/Berlin:20260602T193000
DTEND;TZID=Europe/Berlin:20260602T213000
DESCRIPTION:Am Mainfranken Theater wird in der Spielzeit 2025/26 mit „Vox et Spiritus“ ein lang gehegtes Wunschprojekt der Tanzsparte Realität: eine Uraufführung\, die die Tanzkompanie erstmals gleichberechtigt mit Opernchor und Orchester zusammenführt. Im Zentrum stehen die Stimme und mit ihr der Atem als elementare Kraft\, als Grundvoraussetzung allen Lebens\, die Bewegung und Klang gleichermaßen trägt. Was mit dem ersten Schrei eines Neugeborenen beginnt\, wird hier zum künstlerischen Prinzip: Atmung als Impuls\, als Rhythmusgeber\, als unsichtbares Band zwischen Körper und Musik\; die Stimme als prägender Ausdruck der eigenen Persönlichkeit. Das gemeinsame Ein- und Ausatmen strukturiert den Abend\, schafft Konzentration und Zusammenhalt. Der [&hellip\;] \nInterpreten: Dominique Dumais (Choreografie) \nhttps://www.concerti.de/termine/vox-et-spiritus-theaterfabrik-blaue-halle-wuerzburg-773773/
LOCATION:Theaterfabrik Blaue Halle Würzburg\, Alfred-Nobel-Straße 33\, 97080 Würzburg
END:VEVENT
END:VCALENDAR