BEGIN:VCALENDAR
VERSION:2.0
PRODID:concerti//https://www.concerti.de
CALSCALE:GREGORIAN
BEGIN:VTIMEZONE
TZID:Europe/Berlin
X-LIC-LOCATION:Europe/Berlin
BEGIN:DAYLIGHT
TZOFFSETFROM:+0100
TZOFFSETTO:+0200
TZNAME:CEST
DTSTART:19700329T020000
RRULE:FREQ=YEARLY;BYMONTH=3;BYDAY=-1SU
END:DAYLIGHT
BEGIN:STANDARD
TZOFFSETFROM:+0200
TZOFFSETTO:+0100
TZNAME:CET
DTSTART:19701025T030000
RRULE:FREQ=YEARLY;BYMONTH=10;BYDAY=-1SU
END:STANDARD
END:VTIMEZONE
BEGIN:VEVENT
UID:b6a7cccdfd88af11cdcde37442cb861c
SUMMARY:Katalin Stefula (Flöte), Philharmonisches Orchester Würzburg, Mark Rohde (Leitung)
URL:https://www.concerti.de/termine/katalin-stefula-floete-philharmonisches-orchester-wuerzburg-mark-rohde-leitung-hochschule-fuer-musik-wuerzburg-773789/
DTSTART;TZID=Europe/Berlin:20260625T100000
DTEND;TZID=Europe/Berlin:20260625T120000
DESCRIPTION:Interpreten: Katalin Stefula (Flöte)\, Philharmonisches Orchester Würzburg\, Mark Rohde (Leitung) \nProgramm: Kuhlau: Ouvertüre zu „Elverhøj“\, Nielsen: Flötenkonzert\, Sibelius: Sinfonie Nr. 2 D-Dur op. 43 \nhttps://www.concerti.de/termine/katalin-stefula-floete-philharmonisches-orchester-wuerzburg-mark-rohde-leitung-hochschule-fuer-musik-wuerzburg-773789/
LOCATION:Hochschule für Musik Würzburg\, Hofstallstraße 6-8\, 97070 Würzburg
END:VEVENT
END:VCALENDAR