BEGIN:VCALENDAR
VERSION:2.0
PRODID:concerti//https://www.concerti.de
CALSCALE:GREGORIAN
BEGIN:VTIMEZONE
TZID:Europe/Berlin
X-LIC-LOCATION:Europe/Berlin
BEGIN:DAYLIGHT
TZOFFSETFROM:+0100
TZOFFSETTO:+0200
TZNAME:CEST
DTSTART:19700329T020000
RRULE:FREQ=YEARLY;BYMONTH=3;BYDAY=-1SU
END:DAYLIGHT
BEGIN:STANDARD
TZOFFSETFROM:+0200
TZOFFSETTO:+0100
TZNAME:CET
DTSTART:19701025T030000
RRULE:FREQ=YEARLY;BYMONTH=10;BYDAY=-1SU
END:STANDARD
END:VTIMEZONE
BEGIN:VEVENT
UID:a03c7252f3996d39d5efee16a147f0d9
SUMMARY:Lucie Ceralová (Alt), Stefan Cifolelli (Tenor), Miljenko Turk (Bariton), Stephan Bootz (Bass), Philharmonischer Chor Jena, Jenaer Philharmonie, Simon Gaudenz (Leitung)
URL:https://www.concerti.de/termine/lucie-ceralova-alt-stefan-cifolelli-tenor-miljenko-turk-bariton-stephan-bootz-bass-philharmonischer-chor-jena-jenaer-philharmonie-simon-gaudenz-leitung-volkshaus-775319/
DTSTART;TZID=Europe/Berlin:20260423T193000
DTEND;TZID=Europe/Berlin:20260423T213000
DESCRIPTION:Interpreten: Lucie Ceralová (Alt)\, Stefan Cifolelli (Tenor)\, Miljenko Turk (Bariton)\, Stephan Bootz (Bass)\, Philharmonischer Chor Jena\, Jenaer Philharmonie\, Simon Gaudenz (Leitung) \nProgramm: Weber: Ouvertüre zu „Der Freischütz“ op. 77\, Schubert: Lieder\, Schumann: Ouvertüre zu „Genoveva“ op. 81\, Mendelssohn: Die erste Walpurgisnacht op. 60 \nhttps://www.concerti.de/termine/lucie-ceralova-alt-stefan-cifolelli-tenor-miljenko-turk-bariton-stephan-bootz-bass-philharmonischer-chor-jena-jenaer-philharmonie-simon-gaudenz-leitung-volkshaus-775319/
LOCATION:Volkshaus\, Carl-Zeiss-Platz 15\, 07743 Jena
END:VEVENT
END:VCALENDAR