BEGIN:VCALENDAR
VERSION:2.0
PRODID:concerti//https://www.concerti.de
CALSCALE:GREGORIAN
BEGIN:VTIMEZONE
TZID:Europe/Berlin
X-LIC-LOCATION:Europe/Berlin
BEGIN:DAYLIGHT
TZOFFSETFROM:+0100
TZOFFSETTO:+0200
TZNAME:CEST
DTSTART:19700329T020000
RRULE:FREQ=YEARLY;BYMONTH=3;BYDAY=-1SU
END:DAYLIGHT
BEGIN:STANDARD
TZOFFSETFROM:+0200
TZOFFSETTO:+0100
TZNAME:CET
DTSTART:19701025T030000
RRULE:FREQ=YEARLY;BYMONTH=10;BYDAY=-1SU
END:STANDARD
END:VTIMEZONE
BEGIN:VEVENT
UID:95c00f05c1d2308ac9b1858cc8b3a339
SUMMARY:Caravaggio oder Die Stille unseres Herzschlages
URL:https://www.concerti.de/termine/caravaggio-oder-die-stille-unseres-herzschlages-theater-chemnitz-775278/
DTSTART;TZID=Europe/Berlin:20260424T193000
DTEND;TZID=Europe/Berlin:20260424T213000
DESCRIPTION:Interpreten: Bruno Bouché (Choreografie) \nProgramm: Musik von Monteverdi u. a. \nhttps://www.concerti.de/termine/caravaggio-oder-die-stille-unseres-herzschlages-theater-chemnitz-775278/
LOCATION:Theater Chemnitz\, Käthe-Kollwitz-Straße 7\, 09247 Chemnitz
END:VEVENT
END:VCALENDAR