BEGIN:VCALENDAR
VERSION:2.0
PRODID:concerti//https://www.concerti.de
CALSCALE:GREGORIAN
BEGIN:VTIMEZONE
TZID:Europe/Berlin
X-LIC-LOCATION:Europe/Berlin
BEGIN:DAYLIGHT
TZOFFSETFROM:+0100
TZOFFSETTO:+0200
TZNAME:CEST
DTSTART:19700329T020000
RRULE:FREQ=YEARLY;BYMONTH=3;BYDAY=-1SU
END:DAYLIGHT
BEGIN:STANDARD
TZOFFSETFROM:+0200
TZOFFSETTO:+0100
TZNAME:CET
DTSTART:19701025T030000
RRULE:FREQ=YEARLY;BYMONTH=10;BYDAY=-1SU
END:STANDARD
END:VTIMEZONE
BEGIN:VEVENT
UID:0ffda1408bdb76babce92a80a2dca696
SUMMARY:Wagner: Der fliegende Holländer
URL:https://www.concerti.de/termine/wagner-der-fliegende-hollaender-theater-chemnitz-775323/
DTSTART;TZID=Europe/Berlin:20260524T180000
DTEND;TZID=Europe/Berlin:20260524T200000
DESCRIPTION:Interpreten: Birger Radde (Holländer)\, Viktorija Kaminskaite (Senta)\, Magnus Piontek (Daland)\, Daniel Pataky (Erik)\, Benjamin Reiners/Kens Lui (Leitung)\, Juana Inés Cano Restrepo (Regie) \nhttps://www.concerti.de/termine/wagner-der-fliegende-hollaender-theater-chemnitz-775323/
LOCATION:Theater Chemnitz\, Käthe-Kollwitz-Straße 7\, 09247 Chemnitz
END:VEVENT
END:VCALENDAR