BEGIN:VCALENDAR
VERSION:2.0
PRODID:concerti//https://www.concerti.de
CALSCALE:GREGORIAN
BEGIN:VTIMEZONE
TZID:Europe/Berlin
X-LIC-LOCATION:Europe/Berlin
BEGIN:DAYLIGHT
TZOFFSETFROM:+0100
TZOFFSETTO:+0200
TZNAME:CEST
DTSTART:19700329T020000
RRULE:FREQ=YEARLY;BYMONTH=3;BYDAY=-1SU
END:DAYLIGHT
BEGIN:STANDARD
TZOFFSETFROM:+0200
TZOFFSETTO:+0100
TZNAME:CET
DTSTART:19701025T030000
RRULE:FREQ=YEARLY;BYMONTH=10;BYDAY=-1SU
END:STANDARD
END:VTIMEZONE
BEGIN:VEVENT
UID:80c53f96f39ed597e5a1992c3713e487
SUMMARY:Kammerkonzert
URL:https://www.concerti.de/termine/kammerkonzert-theater-krefeld-734927/
DTSTART;TZID=Europe/Berlin:20260628T110000
DTEND;TZID=Europe/Berlin:20260628T130000
DESCRIPTION:Interpreten: Mitglieder der Niederrheinischen Sinfoniker \nProgramm: M. Haydn: Vier Sonaten C-Dur\, D-Dur\, E-Dur & F-Dur\, Mozart: Zwei Duos G-Dur KV 423 & B-Dur KV 424 \nhttps://www.concerti.de/termine/kammerkonzert-theater-krefeld-734927/
LOCATION:Theater Mönchengladbach\, Odenkirchener Str. 78\, 41236 Mönchengladbach
END:VEVENT
END:VCALENDAR