BEGIN:VCALENDAR
VERSION:2.0
PRODID:concerti//https://www.concerti.de
CALSCALE:GREGORIAN
BEGIN:VTIMEZONE
TZID:Europe/Berlin
X-LIC-LOCATION:Europe/Berlin
BEGIN:DAYLIGHT
TZOFFSETFROM:+0100
TZOFFSETTO:+0200
TZNAME:CEST
DTSTART:19700329T020000
RRULE:FREQ=YEARLY;BYMONTH=3;BYDAY=-1SU
END:DAYLIGHT
BEGIN:STANDARD
TZOFFSETFROM:+0200
TZOFFSETTO:+0100
TZNAME:CET
DTSTART:19701025T030000
RRULE:FREQ=YEARLY;BYMONTH=10;BYDAY=-1SU
END:STANDARD
END:VTIMEZONE
BEGIN:VEVENT
UID:a68a649bfb5f8231d30057cfa5a8211e
SUMMARY:Händel: Il Floridante
URL:https://www.concerti.de/termine/haendel-il-floridante-franziskanerkloster-785308/
DTSTART;TZID=Europe/Berlin:20260519T200000
DTEND;TZID=Europe/Berlin:20260519T220000
DESCRIPTION:Interpreten: Elisabeth von Stritzky (Sopran)\, Florian Wintels (Poetry Slam)\, Cembaless \nhttps://www.concerti.de/termine/haendel-il-floridante-franziskanerkloster-785308/
LOCATION:Kulturforum Franziskanerkloster Kempen\, Burgstr. 19\, 47906 Kempen
END:VEVENT
END:VCALENDAR