BEGIN:VCALENDAR
VERSION:2.0
PRODID:concerti//https://www.concerti.de
CALSCALE:GREGORIAN
BEGIN:VTIMEZONE
TZID:Europe/Berlin
X-LIC-LOCATION:Europe/Berlin
BEGIN:DAYLIGHT
TZOFFSETFROM:+0100
TZOFFSETTO:+0200
TZNAME:CEST
DTSTART:19700329T020000
RRULE:FREQ=YEARLY;BYMONTH=3;BYDAY=-1SU
END:DAYLIGHT
BEGIN:STANDARD
TZOFFSETFROM:+0200
TZOFFSETTO:+0100
TZNAME:CET
DTSTART:19701025T030000
RRULE:FREQ=YEARLY;BYMONTH=10;BYDAY=-1SU
END:STANDARD
END:VTIMEZONE
BEGIN:VEVENT
UID:c5e65586d0558253e059f2ff661ce8e9
SUMMARY:J. Strauss: Waldmeister
URL:https://www.concerti.de/termine/j-strauss-waldmeister-staatstheater-am-gaertnerplatz-389086/
DTSTART;TZID=Europe/Berlin:20260711T193000
DTEND;TZID=Europe/Berlin:20260711T213000
DESCRIPTION:Wackelpudding\, Eis\, Berliner Weiße – welche Assoziationen ruft der Begriff Waldmeister bei Ihnen hervor? Nur die wenigsten denken vermutlich an ein Musiktheaterwerk. Aber das laufende Johann-Strauss-Jahr\, das den 200. Geburtstag des Walzerkönigs feiert\, fördert eben auch die eine oder andere seiner weniger bekannten Operetten-Kostbarkeiten zutage. 1895 uraufgeführt\, entstand „Waldmeister“ gut zwanzig Jahre nach der berühmten „Fledermaus“. Und ähnlich wie in letzterer die berauschende Wirkung des Cham­pagners zelebriert wird\, ist es im hiesigen Werk eine süffige\, umdrehungsreiche Waldmeisterbowle\, die die komplexen Beziehungsverhältnisse einiger lebenslustiger junger Leute letztlich doch noch entwirren kann – natürlich melodiös untermalt mit der üblich beschwingten Leichtigkeit Strauss’scher Werke [&hellip\;] \nInterpreten: Michael Balke (Leitung)\, Josef E. Köpplinger (Regie) \nhttps://www.concerti.de/termine/j-strauss-waldmeister-staatstheater-am-gaertnerplatz-389086/
LOCATION:Staatstheater am Gärtnerplatz München\, Gärtnerplatz 3\, 80469 München
END:VEVENT
END:VCALENDAR