BEGIN:VCALENDAR
VERSION:2.0
PRODID:concerti//https://www.concerti.de
CALSCALE:GREGORIAN
BEGIN:VTIMEZONE
TZID:Europe/Berlin
X-LIC-LOCATION:Europe/Berlin
BEGIN:DAYLIGHT
TZOFFSETFROM:+0100
TZOFFSETTO:+0200
TZNAME:CEST
DTSTART:19700329T020000
RRULE:FREQ=YEARLY;BYMONTH=3;BYDAY=-1SU
END:DAYLIGHT
BEGIN:STANDARD
TZOFFSETFROM:+0200
TZOFFSETTO:+0100
TZNAME:CET
DTSTART:19701025T030000
RRULE:FREQ=YEARLY;BYMONTH=10;BYDAY=-1SU
END:STANDARD
END:VTIMEZONE
BEGIN:VEVENT
UID:ff4e119d61d5d1e04442cb26f2d67e02
SUMMARY:Ein Sommernachtstraum
URL:https://www.concerti.de/termine/ein-sommernachtstraum-historische-stadthalle-790887/
DTSTART;TZID=Europe/Berlin:20260531T110000
DTEND;TZID=Europe/Berlin:20260531T130000
DESCRIPTION:Interpreten: Sinfonieorchester Wuppertal\, Koji Ishizaka (Leitung)\, Juri Tetzlaff (Moderation) \nProgramm: Musik von Mendelssohn \nhttps://www.concerti.de/termine/ein-sommernachtstraum-historische-stadthalle-790887/
LOCATION:Historische Stadthalle Wuppertal\, Johannisberg 40\, 42103 Wuppertal
END:VEVENT
END:VCALENDAR