BEGIN:VCALENDAR
VERSION:2.0
PRODID:concerti//https://www.concerti.de
CALSCALE:GREGORIAN
BEGIN:VTIMEZONE
TZID:Europe/Berlin
X-LIC-LOCATION:Europe/Berlin
BEGIN:DAYLIGHT
TZOFFSETFROM:+0100
TZOFFSETTO:+0200
TZNAME:CEST
DTSTART:19700329T020000
RRULE:FREQ=YEARLY;BYMONTH=3;BYDAY=-1SU
END:DAYLIGHT
BEGIN:STANDARD
TZOFFSETFROM:+0200
TZOFFSETTO:+0100
TZNAME:CET
DTSTART:19701025T030000
RRULE:FREQ=YEARLY;BYMONTH=10;BYDAY=-1SU
END:STANDARD
END:VTIMEZONE
BEGIN:VEVENT
UID:527d9c0a91987176f8aea96e54021f2e
SUMMARY:Mahler: Sinfonie Nr. 6 a-Moll
URL:https://www.concerti.de/termine/mahler-sinfonie-nr-6-a-moll-historische-stadthalle-790900/
DTSTART;TZID=Europe/Berlin:20260629T193000
DTEND;TZID=Europe/Berlin:20260629T213000
DESCRIPTION:Interpreten: Sinfonieorchester Wuppertal\, Patrick Hahn (Leitung) \nhttps://www.concerti.de/termine/mahler-sinfonie-nr-6-a-moll-historische-stadthalle-790900/
LOCATION:Historische Stadthalle Wuppertal\, Johannisberg 40\, 42103 Wuppertal
END:VEVENT
END:VCALENDAR