BEGIN:VCALENDAR
VERSION:2.0
PRODID:concerti//https://www.concerti.de
CALSCALE:GREGORIAN
BEGIN:VTIMEZONE
TZID:Europe/Berlin
X-LIC-LOCATION:Europe/Berlin
BEGIN:DAYLIGHT
TZOFFSETFROM:+0100
TZOFFSETTO:+0200
TZNAME:CEST
DTSTART:19700329T020000
RRULE:FREQ=YEARLY;BYMONTH=3;BYDAY=-1SU
END:DAYLIGHT
BEGIN:STANDARD
TZOFFSETFROM:+0200
TZOFFSETTO:+0100
TZNAME:CET
DTSTART:19701025T030000
RRULE:FREQ=YEARLY;BYMONTH=10;BYDAY=-1SU
END:STANDARD
END:VTIMEZONE
BEGIN:VEVENT
UID:877e047c86dfb013e54b260b1f146bf7
SUMMARY:Popcorn Symphony
URL:https://www.concerti.de/termine/popcorn-symphony-791226/
DTSTART;TZID=Europe/Berlin:20260515T193000
DTEND;TZID=Europe/Berlin:20260515T213000
DESCRIPTION:Interpreten: Ilja Ruf (Gesang & Klavier)\, Brandenburgisches Staatsorchester Frankfurt\, Bernd Ruf (Leitung) \nhttps://www.concerti.de/termine/popcorn-symphony-791226/
LOCATION:Messehalle 4\, Frankfurt (Oder)
END:VEVENT
END:VCALENDAR