BEGIN:VCALENDAR
VERSION:2.0
PRODID:concerti//https://www.concerti.de
CALSCALE:GREGORIAN
BEGIN:VTIMEZONE
TZID:Europe/Berlin
X-LIC-LOCATION:Europe/Berlin
BEGIN:DAYLIGHT
TZOFFSETFROM:+0100
TZOFFSETTO:+0200
TZNAME:CEST
DTSTART:19700329T020000
RRULE:FREQ=YEARLY;BYMONTH=3;BYDAY=-1SU
END:DAYLIGHT
BEGIN:STANDARD
TZOFFSETFROM:+0200
TZOFFSETTO:+0100
TZNAME:CET
DTSTART:19701025T030000
RRULE:FREQ=YEARLY;BYMONTH=10;BYDAY=-1SU
END:STANDARD
END:VTIMEZONE
BEGIN:VEVENT
UID:4c976962e684e85007e51db68aff4ea0
SUMMARY:Julia Hagen (Violoncello), Mao Fujita (Klavier), Hagen Quartett
URL:https://www.concerti.de/termine/julia-hagen-violoncello-mao-fujita-klavier-hagen-quartett-konzerthaus-wien-792257/
DTSTART;TZID=Europe/Berlin:20260503T193000
DTEND;TZID=Europe/Berlin:20260503T213000
DESCRIPTION:Interpreten: Julia Hagen (Violoncello)\, Mao Fujita (Klavier)\, Hagen Quartett \nProgramm: Brahms: Klavierquintett f-Moll op. 34\, Schubert: Streichquintett C-Dur D 956 \nhttps://www.concerti.de/termine/julia-hagen-violoncello-mao-fujita-klavier-hagen-quartett-konzerthaus-wien-792257/
LOCATION:Wiener Konzerthaus\, Lothringerstraße 20\, 1030 Wien
END:VEVENT
END:VCALENDAR