BEGIN:VCALENDAR
VERSION:2.0
PRODID:concerti//https://www.concerti.de
CALSCALE:GREGORIAN
BEGIN:VTIMEZONE
TZID:Europe/Berlin
X-LIC-LOCATION:Europe/Berlin
BEGIN:DAYLIGHT
TZOFFSETFROM:+0100
TZOFFSETTO:+0200
TZNAME:CEST
DTSTART:19700329T020000
RRULE:FREQ=YEARLY;BYMONTH=3;BYDAY=-1SU
END:DAYLIGHT
BEGIN:STANDARD
TZOFFSETFROM:+0200
TZOFFSETTO:+0100
TZNAME:CET
DTSTART:19701025T030000
RRULE:FREQ=YEARLY;BYMONTH=10;BYDAY=-1SU
END:STANDARD
END:VTIMEZONE
BEGIN:VEVENT
UID:d69e480a130a83546fd55f39f3925230
SUMMARY:Afanasy Chupin (Violine), Volker Jacobsen (Viola), Kaori Yamagami (Violoncello), Alexander Melnikov (Klavier)
URL:https://www.concerti.de/termine/afanasy-chupin-violine-volker-jacobsen-viola-kaori-yamagami-violoncello-alexander-melnikov-klavier-konzerthaus-wien-792263/
DTSTART;TZID=Europe/Berlin:20260505T193000
DTEND;TZID=Europe/Berlin:20260505T213000
DESCRIPTION:Interpreten: Afanasy Chupin (Violine)\, Volker Jacobsen (Viola)\, Kaori Yamagami (Violoncello)\, Alexander Melnikov (Klavier) \nProgramm: Mozart: Larghetto aus Klavierquartett Es-Dur KV 493\, Schumann: Andante cantabile aus Klavierquartett Es-Dur op. 47\, R. Strauss: Allegro aus Klavierquartett c-Moll op. 13\, Rubinstein: Andante assai aus Klavierquartett op. 66\, Mahler: Klavierquartettsatz a-Moll\, Bax: Klavierquartett \nhttps://www.concerti.de/termine/afanasy-chupin-violine-volker-jacobsen-viola-kaori-yamagami-violoncello-alexander-melnikov-klavier-konzerthaus-wien-792263/
LOCATION:Wiener Konzerthaus\, Lothringerstraße 20\, 1030 Wien
END:VEVENT
END:VCALENDAR