BEGIN:VCALENDAR
VERSION:2.0
PRODID:concerti//https://www.concerti.de
CALSCALE:GREGORIAN
BEGIN:VTIMEZONE
TZID:Europe/Berlin
X-LIC-LOCATION:Europe/Berlin
BEGIN:DAYLIGHT
TZOFFSETFROM:+0100
TZOFFSETTO:+0200
TZNAME:CEST
DTSTART:19700329T020000
RRULE:FREQ=YEARLY;BYMONTH=3;BYDAY=-1SU
END:DAYLIGHT
BEGIN:STANDARD
TZOFFSETFROM:+0200
TZOFFSETTO:+0100
TZNAME:CET
DTSTART:19701025T030000
RRULE:FREQ=YEARLY;BYMONTH=10;BYDAY=-1SU
END:STANDARD
END:VTIMEZONE
BEGIN:VEVENT
UID:2a331c7da8042d1475d529cb6c4a5bb8
SUMMARY:Trio Abstrakt
URL:https://www.concerti.de/termine/trio-abstrakt-konzerthaus-wien-792342/
DTSTART;TZID=Europe/Berlin:20260526T193000
DTEND;TZID=Europe/Berlin:20260526T213000
DESCRIPTION:Interpreten: Trio Abstrakt \nProgramm: Mundry: Songlines (EA)\, Djordjević: Neues Werk (EA)\, Jeong: mit dir zu schweigen (EA)\, Walker: I thought the passing of time would let the truth emerge (EA) \nhttps://www.concerti.de/termine/trio-abstrakt-konzerthaus-wien-792342/
LOCATION:Wiener Konzerthaus\, Lothringerstraße 20\, 1030 Wien
END:VEVENT
END:VCALENDAR