BEGIN:VCALENDAR
VERSION:2.0
PRODID:concerti//https://www.concerti.de
CALSCALE:GREGORIAN
BEGIN:VTIMEZONE
TZID:Europe/Berlin
X-LIC-LOCATION:Europe/Berlin
BEGIN:DAYLIGHT
TZOFFSETFROM:+0100
TZOFFSETTO:+0200
TZNAME:CEST
DTSTART:19700329T020000
RRULE:FREQ=YEARLY;BYMONTH=3;BYDAY=-1SU
END:DAYLIGHT
BEGIN:STANDARD
TZOFFSETFROM:+0200
TZOFFSETTO:+0100
TZNAME:CET
DTSTART:19701025T030000
RRULE:FREQ=YEARLY;BYMONTH=10;BYDAY=-1SU
END:STANDARD
END:VTIMEZONE
BEGIN:VEVENT
UID:70739edd07d1c60712dc3e782eac04ef
SUMMARY:Piccolo: Zack bumm!
URL:https://www.concerti.de/termine/piccolo-zack-bumm-konzerthaus-wien-792358/
DTSTART;TZID=Europe/Berlin:20260531T140000
DTEND;TZID=Europe/Berlin:20260531T160000
DESCRIPTION:Interpreten: Tanja Beranek (Oboe)\, Felicia Bulenda (Klarinette)\, Christian Walcher (Fagott)\, Sebastian Pauzenberger (Schlagwerk)\, Katharina Halus (Puppenspiel)\, Ela Baumann (Regie) \nProgramm: Musik von Naske \nhttps://www.concerti.de/termine/piccolo-zack-bumm-konzerthaus-wien-792358/
LOCATION:Wiener Konzerthaus\, Lothringerstraße 20\, 1030 Wien
END:VEVENT
END:VCALENDAR