BEGIN:VCALENDAR
VERSION:2.0
PRODID:concerti//https://www.concerti.de
CALSCALE:GREGORIAN
BEGIN:VTIMEZONE
TZID:Europe/Berlin
X-LIC-LOCATION:Europe/Berlin
BEGIN:DAYLIGHT
TZOFFSETFROM:+0100
TZOFFSETTO:+0200
TZNAME:CEST
DTSTART:19700329T020000
RRULE:FREQ=YEARLY;BYMONTH=3;BYDAY=-1SU
END:DAYLIGHT
BEGIN:STANDARD
TZOFFSETFROM:+0200
TZOFFSETTO:+0100
TZNAME:CET
DTSTART:19701025T030000
RRULE:FREQ=YEARLY;BYMONTH=10;BYDAY=-1SU
END:STANDARD
END:VTIMEZONE
BEGIN:VEVENT
UID:75680a4fb5b3066cece9878bab2dd9a2
SUMMARY:Bruce Liu (Klavier), Luzerner Sinfonieorchester, David Afkham (Leitung)
URL:https://www.concerti.de/termine/bruce-liu-klavier-luzerner-sinfonieorchester-david-afkham-leitung-carmen-wuerth-forum-792896/
DTSTART;TZID=Europe/Berlin:20260502T170000
DTEND;TZID=Europe/Berlin:20260502T190000
DESCRIPTION:Interpreten: Bruce Liu (Klavier)\, Luzerner Sinfonieorchester\, David Afkham (Leitung) \nProgramm: Beethoven: Klavierkonzert Nr. 3 c-Moll op. 37\, Brahms: Sinfonie Nr. 1 c-Moll op. 68 \nhttps://www.concerti.de/termine/bruce-liu-klavier-luzerner-sinfonieorchester-david-afkham-leitung-carmen-wuerth-forum-792896/
LOCATION:Carmen Würth Forum\, Am Forumsplatz 1\, 74653 Künzelsau
END:VEVENT
END:VCALENDAR