BEGIN:VCALENDAR
VERSION:2.0
PRODID:concerti//https://www.concerti.de
CALSCALE:GREGORIAN
BEGIN:VTIMEZONE
TZID:Europe/Berlin
X-LIC-LOCATION:Europe/Berlin
BEGIN:DAYLIGHT
TZOFFSETFROM:+0100
TZOFFSETTO:+0200
TZNAME:CEST
DTSTART:19700329T020000
RRULE:FREQ=YEARLY;BYMONTH=3;BYDAY=-1SU
END:DAYLIGHT
BEGIN:STANDARD
TZOFFSETFROM:+0200
TZOFFSETTO:+0100
TZNAME:CET
DTSTART:19701025T030000
RRULE:FREQ=YEARLY;BYMONTH=10;BYDAY=-1SU
END:STANDARD
END:VTIMEZONE
BEGIN:VEVENT
UID:8d65f031f10fbd0975acc9bf9082f244
SUMMARY:J. S. Bach/Gundermann: Wir danken dir, Gott, wir danken dir BWV 29 - BachBewegt!Singen!
URL:https://www.concerti.de/termine/j-s-bach-gundermann-wir-danken-dir-gott-wir-danken-dir-bwv-29-liederhalle-stuttgart-792918/
DTSTART;TZID=Europe/Berlin:20260621T150000
DTEND;TZID=Europe/Berlin:20260621T170000
DESCRIPTION:Interpreten: Schüler & Schülerinnen aus Stuttgart\, Gaechinger Cantorey\, Hans-Christoph Rademann (Leitung) \nhttps://www.concerti.de/termine/j-s-bach-gundermann-wir-danken-dir-gott-wir-danken-dir-bwv-29-liederhalle-stuttgart-792918/
LOCATION:Liederhalle\, Berliner Platz 1-3\, 70174 Stuttgart
END:VEVENT
END:VCALENDAR