BEGIN:VCALENDAR
VERSION:2.0
PRODID:concerti//https://www.concerti.de
CALSCALE:GREGORIAN
BEGIN:VTIMEZONE
TZID:Europe/Berlin
X-LIC-LOCATION:Europe/Berlin
BEGIN:DAYLIGHT
TZOFFSETFROM:+0100
TZOFFSETTO:+0200
TZNAME:CEST
DTSTART:19700329T020000
RRULE:FREQ=YEARLY;BYMONTH=3;BYDAY=-1SU
END:DAYLIGHT
BEGIN:STANDARD
TZOFFSETFROM:+0200
TZOFFSETTO:+0100
TZNAME:CET
DTSTART:19701025T030000
RRULE:FREQ=YEARLY;BYMONTH=10;BYDAY=-1SU
END:STANDARD
END:VTIMEZONE
BEGIN:VEVENT
UID:6e82f800b82f90f006282b2f0e7c084a
SUMMARY:Duo ViA
URL:https://www.concerti.de/termine/duo-via-teo-otto-theater-remscheid-793457/
DTSTART;TZID=Europe/Berlin:20260513T193000
DTEND;TZID=Europe/Berlin:20260513T213000
DESCRIPTION:Interpreten: Duo ViA \nhttps://www.concerti.de/termine/duo-via-teo-otto-theater-remscheid-793457/
LOCATION:Teo Otto Theater Remscheid\, Konrad-Adenauer-Straße 31-33\, 42853 Remscheid
END:VEVENT
END:VCALENDAR