BEGIN:VCALENDAR
VERSION:2.0
PRODID:concerti//https://www.concerti.de
CALSCALE:GREGORIAN
BEGIN:VTIMEZONE
TZID:Europe/Berlin
X-LIC-LOCATION:Europe/Berlin
BEGIN:DAYLIGHT
TZOFFSETFROM:+0100
TZOFFSETTO:+0200
TZNAME:CEST
DTSTART:19700329T020000
RRULE:FREQ=YEARLY;BYMONTH=3;BYDAY=-1SU
END:DAYLIGHT
BEGIN:STANDARD
TZOFFSETFROM:+0200
TZOFFSETTO:+0100
TZNAME:CET
DTSTART:19701025T030000
RRULE:FREQ=YEARLY;BYMONTH=10;BYDAY=-1SU
END:STANDARD
END:VTIMEZONE
BEGIN:VEVENT
UID:00494ce278369cbcdd3bb10348a5d139
SUMMARY:On Fire - Filmmusikkonzert
URL:https://www.concerti.de/termine/on-fire-teo-otto-theater-remscheid-793474/
DTSTART;TZID=Europe/Berlin:20260619T193000
DTEND;TZID=Europe/Berlin:20260619T213000
DESCRIPTION:Interpreten: Bergische Symphoniker\, Daniel Huppert (Leitung)\, Miki Kekenj (Moderation) \nhttps://www.concerti.de/termine/on-fire-teo-otto-theater-remscheid-793474/
LOCATION:Teo Otto Theater Remscheid\, Konrad-Adenauer-Straße 31-33\, 42853 Remscheid
END:VEVENT
END:VCALENDAR