BEGIN:VCALENDAR
VERSION:2.0
PRODID:concerti//https://www.concerti.de
CALSCALE:GREGORIAN
BEGIN:VTIMEZONE
TZID:Europe/Berlin
X-LIC-LOCATION:Europe/Berlin
BEGIN:DAYLIGHT
TZOFFSETFROM:+0100
TZOFFSETTO:+0200
TZNAME:CEST
DTSTART:19700329T020000
RRULE:FREQ=YEARLY;BYMONTH=3;BYDAY=-1SU
END:DAYLIGHT
BEGIN:STANDARD
TZOFFSETFROM:+0200
TZOFFSETTO:+0100
TZNAME:CET
DTSTART:19701025T030000
RRULE:FREQ=YEARLY;BYMONTH=10;BYDAY=-1SU
END:STANDARD
END:VTIMEZONE
BEGIN:VEVENT
UID:8d137d0668390391edd2329f05f02bc9
SUMMARY:Magische Töne
URL:https://www.concerti.de/termine/magische-toene-kkl-kultur-und-kongresszentrum-luzern-793869/
DTSTART;TZID=Europe/Berlin:20260505T193000
DTEND;TZID=Europe/Berlin:20260505T213000
DESCRIPTION:Interpreten: Malin Byström (Sopran)\, Jonas Kaufmann (Tenor)\, Philharmonie Baden-Baden\, Jochen Rieder (Leitung) \nProgramm: Werke von Goldmark\, Lehár\, Kálmán u. a. \nhttps://www.concerti.de/termine/magische-toene-kkl-kultur-und-kongresszentrum-luzern-793869/
LOCATION:KKL Kultur- und Kongresszentrum Luzern\, Europaplatz 1\, 6005 Luzern
END:VEVENT
END:VCALENDAR