BEGIN:VCALENDAR
VERSION:2.0
PRODID:concerti//https://www.concerti.de
CALSCALE:GREGORIAN
BEGIN:VTIMEZONE
TZID:Europe/Berlin
X-LIC-LOCATION:Europe/Berlin
BEGIN:DAYLIGHT
TZOFFSETFROM:+0100
TZOFFSETTO:+0200
TZNAME:CEST
DTSTART:19700329T020000
RRULE:FREQ=YEARLY;BYMONTH=3;BYDAY=-1SU
END:DAYLIGHT
BEGIN:STANDARD
TZOFFSETFROM:+0200
TZOFFSETTO:+0100
TZNAME:CET
DTSTART:19701025T030000
RRULE:FREQ=YEARLY;BYMONTH=10;BYDAY=-1SU
END:STANDARD
END:VTIMEZONE
BEGIN:VEVENT
UID:53e06cf11215debdcdcc4b62f958c0a7
SUMMARY:Sophie Rennert (Mezzosopran), Frauenchor Vocalis, Joseph Middleton (Klavier) - Schubertiade Hohenems / Schwarzenberg
URL:https://www.concerti.de/termine/sophie-rennert-mezzosopran-frauenchor-vocalis-joseph-middleton-klavier-794569/
DTSTART;TZID=Europe/Berlin:20260430T160000
DTEND;TZID=Europe/Berlin:20260430T180000
DESCRIPTION:Interpreten: Sophie Rennert (Mezzosopran)\, Frauenchor Vocalis\, Joseph Middleton (Klavier) \nProgramm: Schubert: Lachen und Weinen D 777\, Der König in Thule D 367\, Lied der Mignon D 877/4\, Frühlingsglaube D 686\, Wehmut D 772\, Klärchens Lied D 210\, Fischerweise D 881\, Ständchen D 921 u. a. \nhttps://www.concerti.de/termine/sophie-rennert-mezzosopran-frauenchor-vocalis-joseph-middleton-klavier-794569/
LOCATION:Markus-Sittikus-Saal\, Hohenems
END:VEVENT
END:VCALENDAR