BEGIN:VCALENDAR
VERSION:2.0
PRODID:concerti//https://www.concerti.de
CALSCALE:GREGORIAN
BEGIN:VTIMEZONE
TZID:Europe/Berlin
X-LIC-LOCATION:Europe/Berlin
BEGIN:DAYLIGHT
TZOFFSETFROM:+0100
TZOFFSETTO:+0200
TZNAME:CEST
DTSTART:19700329T020000
RRULE:FREQ=YEARLY;BYMONTH=3;BYDAY=-1SU
END:DAYLIGHT
BEGIN:STANDARD
TZOFFSETFROM:+0200
TZOFFSETTO:+0100
TZNAME:CET
DTSTART:19701025T030000
RRULE:FREQ=YEARLY;BYMONTH=10;BYDAY=-1SU
END:STANDARD
END:VTIMEZONE
BEGIN:VEVENT
UID:75eafb10da209555d386bcbe5cc78433
SUMMARY:Goldmund Quartett - Schubertiade Hohenems / Schwarzenberg
URL:https://www.concerti.de/termine/goldmund-quartett-794637/
DTSTART;TZID=Europe/Berlin:20260529T200000
DTEND;TZID=Europe/Berlin:20260529T220000
DESCRIPTION:Interpreten: Goldmund Quartett \nProgramm: Haydn: Streichquartette Es-dur op. 33/2 „Der Scherz“ & g-Moll D 173\, Brahms: Streichquartett a-Moll op. 51/2 \nhttps://www.concerti.de/termine/goldmund-quartett-794637/
LOCATION:Markus-Sittikus-Saal\, Hohenems
END:VEVENT
END:VCALENDAR