BEGIN:VCALENDAR
VERSION:2.0
PRODID:concerti//https://www.concerti.de
CALSCALE:GREGORIAN
BEGIN:VTIMEZONE
TZID:Europe/Berlin
X-LIC-LOCATION:Europe/Berlin
BEGIN:DAYLIGHT
TZOFFSETFROM:+0100
TZOFFSETTO:+0200
TZNAME:CEST
DTSTART:19700329T020000
RRULE:FREQ=YEARLY;BYMONTH=3;BYDAY=-1SU
END:DAYLIGHT
BEGIN:STANDARD
TZOFFSETFROM:+0200
TZOFFSETTO:+0100
TZNAME:CET
DTSTART:19701025T030000
RRULE:FREQ=YEARLY;BYMONTH=10;BYDAY=-1SU
END:STANDARD
END:VTIMEZONE
BEGIN:VEVENT
UID:db02f3dcef987043d6d67f3815b958be
SUMMARY:Stefan Heinemeyer (Violoncello), Alinde Quartett - Schubertiade Hohenems / Schwarzenberg
URL:https://www.concerti.de/termine/stefan-heinemeyer-violoncello-alinde-quartett-794642/
DTSTART;TZID=Europe/Berlin:20260530T160000
DTEND;TZID=Europe/Berlin:20260530T180000
DESCRIPTION:Interpreten: Stefan Heinemeyer (Violoncello)\, Alinde Quartett \nProgramm: Schubert: Quartettsatz c-Moll D 703\, Streichquartett C-Dur D 46 & Streichquintett C-Dur D 956 \nhttps://www.concerti.de/termine/stefan-heinemeyer-violoncello-alinde-quartett-794642/
LOCATION:Markus-Sittikus-Saal\, Hohenems
END:VEVENT
END:VCALENDAR