BEGIN:VCALENDAR
VERSION:2.0
PRODID:concerti//https://www.concerti.de
CALSCALE:GREGORIAN
BEGIN:VTIMEZONE
TZID:Europe/Berlin
X-LIC-LOCATION:Europe/Berlin
BEGIN:DAYLIGHT
TZOFFSETFROM:+0100
TZOFFSETTO:+0200
TZNAME:CEST
DTSTART:19700329T020000
RRULE:FREQ=YEARLY;BYMONTH=3;BYDAY=-1SU
END:DAYLIGHT
BEGIN:STANDARD
TZOFFSETFROM:+0200
TZOFFSETTO:+0100
TZNAME:CET
DTSTART:19701025T030000
RRULE:FREQ=YEARLY;BYMONTH=10;BYDAY=-1SU
END:STANDARD
END:VTIMEZONE
BEGIN:VEVENT
UID:0bad9af181dcdddc98cfe9d8064475e1
SUMMARY:Julia Hagen (Violoncello), Hagen Quartett - Schubertiade Hohenems / Schwarzenberg
URL:https://www.concerti.de/termine/julia-hagen-violoncello-hagen-quartett-794673/
DTSTART;TZID=Europe/Berlin:20260623T200000
DTEND;TZID=Europe/Berlin:20260623T220000
DESCRIPTION:Interpreten: Julia Hagen (Violoncello)\, Hagen Quartett \nProgramm: Schubert: Streichquartett d-moll D 810 „Der Tod und das Mädchen“ & Streichquartett G-Dur D 887 \nhttps://www.concerti.de/termine/julia-hagen-violoncello-hagen-quartett-794673/
LOCATION:Angelika-Kauffmann-Saal\, Schwarzenberg
END:VEVENT
END:VCALENDAR