BEGIN:VCALENDAR
VERSION:2.0
PRODID:concerti//https://www.concerti.de
CALSCALE:GREGORIAN
BEGIN:VTIMEZONE
TZID:Europe/Berlin
X-LIC-LOCATION:Europe/Berlin
BEGIN:DAYLIGHT
TZOFFSETFROM:+0100
TZOFFSETTO:+0200
TZNAME:CEST
DTSTART:19700329T020000
RRULE:FREQ=YEARLY;BYMONTH=3;BYDAY=-1SU
END:DAYLIGHT
BEGIN:STANDARD
TZOFFSETFROM:+0200
TZOFFSETTO:+0100
TZNAME:CET
DTSTART:19701025T030000
RRULE:FREQ=YEARLY;BYMONTH=10;BYDAY=-1SU
END:STANDARD
END:VTIMEZONE
BEGIN:VEVENT
UID:c244e516b1e643d7c776329ca8f46ca2
SUMMARY:Hoffnung - Schubertiade Hohenems / Schwarzenberg
URL:https://www.concerti.de/termine/hoffnung-794698/
DTSTART;TZID=Europe/Berlin:20260717T200000
DTEND;TZID=Europe/Berlin:20260717T220000
DESCRIPTION:Interpreten: Samuel Hasselhorn (Bariton)\, Ammiel Bushakevitz (Klavier) \nProgramm: Schubert: Sehnsucht D 879\, Im Freien\, Lebensmut\, Dithyrambe\, Das Zügenglöcklein\, Im Jänner 1817\, Am Fenster\, Fischerweise\, Totengräber-Weise\, Der Wanderer an den Mond u. a. \nhttps://www.concerti.de/termine/hoffnung-794698/
LOCATION:Markus-Sittikus-Saal\, Hohenems
END:VEVENT
END:VCALENDAR