BEGIN:VCALENDAR
VERSION:2.0
PRODID:concerti//https://www.concerti.de
CALSCALE:GREGORIAN
BEGIN:VTIMEZONE
TZID:Europe/Berlin
X-LIC-LOCATION:Europe/Berlin
BEGIN:DAYLIGHT
TZOFFSETFROM:+0100
TZOFFSETTO:+0200
TZNAME:CEST
DTSTART:19700329T020000
RRULE:FREQ=YEARLY;BYMONTH=3;BYDAY=-1SU
END:DAYLIGHT
BEGIN:STANDARD
TZOFFSETFROM:+0200
TZOFFSETTO:+0100
TZNAME:CET
DTSTART:19701025T030000
RRULE:FREQ=YEARLY;BYMONTH=10;BYDAY=-1SU
END:STANDARD
END:VTIMEZONE
BEGIN:VEVENT
UID:db3956ba8a21e7c40b75e17f03481afc
SUMMARY:Aris Quartett - Schubertiade Hohenems / Schwarzenberg
URL:https://www.concerti.de/termine/aris-quartett-794707/
DTSTART;TZID=Europe/Berlin:20260719T110000
DTEND;TZID=Europe/Berlin:20260719T130000
DESCRIPTION:Interpreten: Aris Quartett \nProgramm: Beethoven: Streichquartett F-Dur op. 59/1 „Rasumowsky“\, Schubert: Streichquartett d-Moll D 810 „Der Tod und das Mädchen“ \nhttps://www.concerti.de/termine/aris-quartett-794707/
LOCATION:Markus-Sittikus-Saal\, Hohenems
END:VEVENT
END:VCALENDAR