BEGIN:VCALENDAR
VERSION:2.0
PRODID:concerti//https://www.concerti.de
CALSCALE:GREGORIAN
BEGIN:VTIMEZONE
TZID:Europe/Berlin
X-LIC-LOCATION:Europe/Berlin
BEGIN:DAYLIGHT
TZOFFSETFROM:+0100
TZOFFSETTO:+0200
TZNAME:CEST
DTSTART:19700329T020000
RRULE:FREQ=YEARLY;BYMONTH=3;BYDAY=-1SU
END:DAYLIGHT
BEGIN:STANDARD
TZOFFSETFROM:+0200
TZOFFSETTO:+0100
TZNAME:CET
DTSTART:19701025T030000
RRULE:FREQ=YEARLY;BYMONTH=10;BYDAY=-1SU
END:STANDARD
END:VTIMEZONE
BEGIN:VEVENT
UID:9075ba116e16d044caed58a9dd3fbe4f
SUMMARY:David Fray (Klavier) - Schubertiade Hohenems / Schwarzenberg
URL:https://www.concerti.de/termine/david-fray-klavier-794710/
DTSTART;TZID=Europe/Berlin:20260821T200000
DTEND;TZID=Europe/Berlin:20260821T220000
DESCRIPTION:Interpreten: David Fray (Klavier) \nProgramm: Schubert: Sechs Moments musicaux D 780 & Sonate B-Dur D 960 \nhttps://www.concerti.de/termine/david-fray-klavier-794710/
LOCATION:Angelika-Kauffmann-Saal\, Schwarzenberg
END:VEVENT
END:VCALENDAR