BEGIN:VCALENDAR
VERSION:2.0
PRODID:concerti//https://www.concerti.de
CALSCALE:GREGORIAN
BEGIN:VTIMEZONE
TZID:Europe/Berlin
X-LIC-LOCATION:Europe/Berlin
BEGIN:DAYLIGHT
TZOFFSETFROM:+0100
TZOFFSETTO:+0200
TZNAME:CEST
DTSTART:19700329T020000
RRULE:FREQ=YEARLY;BYMONTH=3;BYDAY=-1SU
END:DAYLIGHT
BEGIN:STANDARD
TZOFFSETFROM:+0200
TZOFFSETTO:+0100
TZNAME:CET
DTSTART:19701025T030000
RRULE:FREQ=YEARLY;BYMONTH=10;BYDAY=-1SU
END:STANDARD
END:VTIMEZONE
BEGIN:VEVENT
UID:c1cac6ad1b298c2f40f4dceaf4775a8f
SUMMARY:Elisabeth Leonskaja (Klavier), Quatuor Danel - Schubertiade Hohenems / Schwarzenberg
URL:https://www.concerti.de/termine/elisabeth-leonskaja-klavier-quatuor-danel-794713/
DTSTART;TZID=Europe/Berlin:20260822T160000
DTEND;TZID=Europe/Berlin:20260822T180000
DESCRIPTION:Interpreten: Elisabeth Leonskaja (Klavier)\, Quatuor Danel \nProgramm: Schubert: Streichquartett a-Moll D 804 „Rosamunde“\, Schumann: Klavierquintett Es-Dur op. 44 \nhttps://www.concerti.de/termine/elisabeth-leonskaja-klavier-quatuor-danel-794713/
LOCATION:Angelika-Kauffmann-Saal\, Schwarzenberg
END:VEVENT
END:VCALENDAR