BEGIN:VCALENDAR
VERSION:2.0
PRODID:concerti//https://www.concerti.de
CALSCALE:GREGORIAN
BEGIN:VTIMEZONE
TZID:Europe/Berlin
X-LIC-LOCATION:Europe/Berlin
BEGIN:DAYLIGHT
TZOFFSETFROM:+0100
TZOFFSETTO:+0200
TZNAME:CEST
DTSTART:19700329T020000
RRULE:FREQ=YEARLY;BYMONTH=3;BYDAY=-1SU
END:DAYLIGHT
BEGIN:STANDARD
TZOFFSETFROM:+0200
TZOFFSETTO:+0100
TZNAME:CET
DTSTART:19701025T030000
RRULE:FREQ=YEARLY;BYMONTH=10;BYDAY=-1SU
END:STANDARD
END:VTIMEZONE
BEGIN:VEVENT
UID:ded030b02a9ccc1547e0b9caadaf83f3
SUMMARY:Pavel Nikl (Viola), Ivan Vokáč (Violoncello), Pavel Haas Quartett - Schubertiade Hohenems / Schwarzenberg
URL:https://www.concerti.de/termine/pavel-nikl-viola-ivan-vokac-violoncello-pavel-haas-quartett-794717/
DTSTART;TZID=Europe/Berlin:20260823T110000
DTEND;TZID=Europe/Berlin:20260823T130000
DESCRIPTION:Interpreten: Pavel Nikl (Viola)\, Ivan Vokáč (Violoncello)\, Pavel Haas Quartett \nProgramm: Dvořák: Streichquartett As-Dur op. 105 & Streichsextett A-Dur op. 48 \nhttps://www.concerti.de/termine/pavel-nikl-viola-ivan-vokac-violoncello-pavel-haas-quartett-794717/
LOCATION:Angelika-Kauffmann-Saal\, Schwarzenberg
END:VEVENT
END:VCALENDAR