BEGIN:VCALENDAR
VERSION:2.0
PRODID:concerti//https://www.concerti.de
CALSCALE:GREGORIAN
BEGIN:VTIMEZONE
TZID:Europe/Berlin
X-LIC-LOCATION:Europe/Berlin
BEGIN:DAYLIGHT
TZOFFSETFROM:+0100
TZOFFSETTO:+0200
TZNAME:CEST
DTSTART:19700329T020000
RRULE:FREQ=YEARLY;BYMONTH=3;BYDAY=-1SU
END:DAYLIGHT
BEGIN:STANDARD
TZOFFSETFROM:+0200
TZOFFSETTO:+0100
TZNAME:CET
DTSTART:19701025T030000
RRULE:FREQ=YEARLY;BYMONTH=10;BYDAY=-1SU
END:STANDARD
END:VTIMEZONE
BEGIN:VEVENT
UID:4572665913c7e79734c45905cc43e095
SUMMARY:Christiane Karg (Sopran), David Fray (Klavier) - Schubertiade Hohenems / Schwarzenberg
URL:https://www.concerti.de/termine/christiane-karg-sopran-david-fray-klavier-794720/
DTSTART;TZID=Europe/Berlin:20260823T160000
DTEND;TZID=Europe/Berlin:20260823T180000
DESCRIPTION:Interpreten: Christiane Karg (Sopran)\, David Fray (Klavier) \nProgramm: Werke von Schubert \nhttps://www.concerti.de/termine/christiane-karg-sopran-david-fray-klavier-794720/
LOCATION:Angelika-Kauffmann-Saal\, Schwarzenberg
END:VEVENT
END:VCALENDAR