BEGIN:VCALENDAR
VERSION:2.0
PRODID:concerti//https://www.concerti.de
CALSCALE:GREGORIAN
BEGIN:VTIMEZONE
TZID:Europe/Berlin
X-LIC-LOCATION:Europe/Berlin
BEGIN:DAYLIGHT
TZOFFSETFROM:+0100
TZOFFSETTO:+0200
TZNAME:CEST
DTSTART:19700329T020000
RRULE:FREQ=YEARLY;BYMONTH=3;BYDAY=-1SU
END:DAYLIGHT
BEGIN:STANDARD
TZOFFSETFROM:+0200
TZOFFSETTO:+0100
TZNAME:CET
DTSTART:19701025T030000
RRULE:FREQ=YEARLY;BYMONTH=10;BYDAY=-1SU
END:STANDARD
END:VTIMEZONE
BEGIN:VEVENT
UID:067a68bff2236f4f05d561ab5efb03fb
SUMMARY:Elisabeth Leonskaja (Klavier), Quatuor Danel - Schubertiade Hohenems / Schwarzenberg
URL:https://www.concerti.de/termine/elisabeth-leonskaja-klavier-quatuor-danel-794713/
DTSTART;TZID=Europe/Berlin:20260823T200000
DTEND;TZID=Europe/Berlin:20260823T220000
DESCRIPTION:Interpreten: Elisabeth Leonskaja (Klavier)\, Quatuor Danel \nProgramm: Sonaten H-Dur D 575 & A-Dur D 959\, Vier Impromptus D 935 \nhttps://www.concerti.de/termine/elisabeth-leonskaja-klavier-quatuor-danel-794713/
LOCATION:Angelika-Kauffmann-Saal\, Schwarzenberg
END:VEVENT
END:VCALENDAR