BEGIN:VCALENDAR
VERSION:2.0
PRODID:concerti//https://www.concerti.de
CALSCALE:GREGORIAN
BEGIN:VTIMEZONE
TZID:Europe/Berlin
X-LIC-LOCATION:Europe/Berlin
BEGIN:DAYLIGHT
TZOFFSETFROM:+0100
TZOFFSETTO:+0200
TZNAME:CEST
DTSTART:19700329T020000
RRULE:FREQ=YEARLY;BYMONTH=3;BYDAY=-1SU
END:DAYLIGHT
BEGIN:STANDARD
TZOFFSETFROM:+0200
TZOFFSETTO:+0100
TZNAME:CET
DTSTART:19701025T030000
RRULE:FREQ=YEARLY;BYMONTH=10;BYDAY=-1SU
END:STANDARD
END:VTIMEZONE
BEGIN:VEVENT
UID:84629788398e6b2185e7500ead1bd168
SUMMARY:Brahms: Die schöne Magelone – Fünfzehn Romanzen von Ludwig Tieck op. 33 - Schubertiade Hohenems / Schwarzenberg
URL:https://www.concerti.de/termine/brahms-die-schoene-magelone-fuenfzehn-romanzen-von-ludwig-tieck-op-33-794724/
DTSTART;TZID=Europe/Berlin:20260824T160000
DTEND;TZID=Europe/Berlin:20260824T180000
DESCRIPTION:Interpreten: Andrè Schuen (Bariton)\, Daniel Heide (Klavier) \nhttps://www.concerti.de/termine/brahms-die-schoene-magelone-fuenfzehn-romanzen-von-ludwig-tieck-op-33-794724/
LOCATION:Angelika-Kauffmann-Saal\, Schwarzenberg
END:VEVENT
END:VCALENDAR