BEGIN:VCALENDAR
VERSION:2.0
PRODID:concerti//https://www.concerti.de
CALSCALE:GREGORIAN
BEGIN:VTIMEZONE
TZID:Europe/Berlin
X-LIC-LOCATION:Europe/Berlin
BEGIN:DAYLIGHT
TZOFFSETFROM:+0100
TZOFFSETTO:+0200
TZNAME:CEST
DTSTART:19700329T020000
RRULE:FREQ=YEARLY;BYMONTH=3;BYDAY=-1SU
END:DAYLIGHT
BEGIN:STANDARD
TZOFFSETFROM:+0200
TZOFFSETTO:+0100
TZNAME:CET
DTSTART:19701025T030000
RRULE:FREQ=YEARLY;BYMONTH=10;BYDAY=-1SU
END:STANDARD
END:VTIMEZONE
BEGIN:VEVENT
UID:e347d4923a1b821dff3783f7ccb90f98
SUMMARY:Nikola Hillebrand (Sopran), Patricia Nolz (Mezzosopran), Mauro Peter (Tenor), David Steffens (Bass), Malcolm Martineau (Klavier) - Schubertiade Hohenems / Schwarzenberg
URL:https://www.concerti.de/termine/nikola-hillebrand-sopran-patricia-nolz-mezzosopran-mauro-peter-tenor-david-steffens-bass-malcolm-martineau-klavier-794737/
DTSTART;TZID=Europe/Berlin:20260826T200000
DTEND;TZID=Europe/Berlin:20260826T220000
DESCRIPTION:Interpreten: Nikola Hillebrand (Sopran)\, Patricia Nolz (Mezzosopran)\, Mauro Peter (Tenor)\, David Steffens (Bass)\, Malcolm Martineau (Klavier) \nProgramm: Werke von Schubert \nhttps://www.concerti.de/termine/nikola-hillebrand-sopran-patricia-nolz-mezzosopran-mauro-peter-tenor-david-steffens-bass-malcolm-martineau-klavier-794737/
LOCATION:Angelika-Kauffmann-Saal\, Schwarzenberg
END:VEVENT
END:VCALENDAR