BEGIN:VCALENDAR
VERSION:2.0
PRODID:concerti//https://www.concerti.de
CALSCALE:GREGORIAN
BEGIN:VTIMEZONE
TZID:Europe/Berlin
X-LIC-LOCATION:Europe/Berlin
BEGIN:DAYLIGHT
TZOFFSETFROM:+0100
TZOFFSETTO:+0200
TZNAME:CEST
DTSTART:19700329T020000
RRULE:FREQ=YEARLY;BYMONTH=3;BYDAY=-1SU
END:DAYLIGHT
BEGIN:STANDARD
TZOFFSETFROM:+0200
TZOFFSETTO:+0100
TZNAME:CET
DTSTART:19701025T030000
RRULE:FREQ=YEARLY;BYMONTH=10;BYDAY=-1SU
END:STANDARD
END:VTIMEZONE
BEGIN:VEVENT
UID:2ef2b5e8134e9899b03d0e5c2684c376
SUMMARY:Kuss Quartett - Schubertiade Hohenems / Schwarzenberg
URL:https://www.concerti.de/termine/kuss-quartett-794746/
DTSTART;TZID=Europe/Berlin:20261002T200000
DTEND;TZID=Europe/Berlin:20261002T220000
DESCRIPTION:Interpreten: Kuss Quartett \nProgramm: Janáček: Streichquartett Nr. 1 „Kreutzersonate“\, Beethoven: Streichquartett F-Dur op. 135\, Schubert: Streichquartett G-Dur D 887 \nhttps://www.concerti.de/termine/kuss-quartett-794746/
LOCATION:Markus-Sittikus-Saal\, Hohenems
END:VEVENT
END:VCALENDAR