BEGIN:VCALENDAR
VERSION:2.0
PRODID:concerti//https://www.concerti.de
CALSCALE:GREGORIAN
BEGIN:VTIMEZONE
TZID:Europe/Berlin
X-LIC-LOCATION:Europe/Berlin
BEGIN:DAYLIGHT
TZOFFSETFROM:+0100
TZOFFSETTO:+0200
TZNAME:CEST
DTSTART:19700329T020000
RRULE:FREQ=YEARLY;BYMONTH=3;BYDAY=-1SU
END:DAYLIGHT
BEGIN:STANDARD
TZOFFSETFROM:+0200
TZOFFSETTO:+0100
TZNAME:CET
DTSTART:19701025T030000
RRULE:FREQ=YEARLY;BYMONTH=10;BYDAY=-1SU
END:STANDARD
END:VTIMEZONE
BEGIN:VEVENT
UID:2ef2ab49e6c68f2be766e4e474cd8d22
SUMMARY:Martin Fröst (Klarinette), Mitglieder des NDR Elbphilharmonie Orchester
URL:https://www.concerti.de/termine/martin-froest-klarinette-mitglieder-des-ndr-elbphilharmonie-orchester-elbphilharmonie-795879/
DTSTART;TZID=Europe/Berlin:20260421T193000
DTEND;TZID=Europe/Berlin:20260421T213000
DESCRIPTION:Interpreten: Martin Fröst (Klarinette)\, Mitglieder des NDR Elbphilharmonie Orchester \nProgramm: Mozart: Klarinettenquintett A-Dur KV 581 & Serenade B-Dur KV 370a \nhttps://www.concerti.de/termine/martin-froest-klarinette-mitglieder-des-ndr-elbphilharmonie-orchester-elbphilharmonie-795879/
LOCATION:Elbphilharmonie\, Platz der Deutschen Einheit 1\, 20457 Hamburg
END:VEVENT
END:VCALENDAR