BEGIN:VCALENDAR
VERSION:2.0
PRODID:concerti//https://www.concerti.de
CALSCALE:GREGORIAN
BEGIN:VTIMEZONE
TZID:Europe/Berlin
X-LIC-LOCATION:Europe/Berlin
BEGIN:DAYLIGHT
TZOFFSETFROM:+0100
TZOFFSETTO:+0200
TZNAME:CEST
DTSTART:19700329T020000
RRULE:FREQ=YEARLY;BYMONTH=3;BYDAY=-1SU
END:DAYLIGHT
BEGIN:STANDARD
TZOFFSETFROM:+0200
TZOFFSETTO:+0100
TZNAME:CET
DTSTART:19701025T030000
RRULE:FREQ=YEARLY;BYMONTH=10;BYDAY=-1SU
END:STANDARD
END:VTIMEZONE
BEGIN:VEVENT
UID:eaf7199345295b9efc4ffd21a121b76c
SUMMARY:Nicolai: Die lustigen Weiber von Windsor
URL:https://www.concerti.de/termine/nicolai-die-lustigen-weiber-von-windsor-staatsoperette-796132/
DTSTART;TZID=Europe/Berlin:20260708T193000
DTEND;TZID=Europe/Berlin:20260708T213000
DESCRIPTION:Interpreten: Michael Ellis Ingram (Leitung)\, Noa Naamat (Regie) \nhttps://www.concerti.de/termine/nicolai-die-lustigen-weiber-von-windsor-staatsoperette-796132/
LOCATION:Staatsoperette Dresden\, Kraftwerk Mitte 1\, 01067 Dresden
END:VEVENT
END:VCALENDAR