BEGIN:VCALENDAR
VERSION:2.0
PRODID:concerti//https://www.concerti.de
CALSCALE:GREGORIAN
BEGIN:VTIMEZONE
TZID:Europe/Berlin
X-LIC-LOCATION:Europe/Berlin
BEGIN:DAYLIGHT
TZOFFSETFROM:+0100
TZOFFSETTO:+0200
TZNAME:CEST
DTSTART:19700329T020000
RRULE:FREQ=YEARLY;BYMONTH=3;BYDAY=-1SU
END:DAYLIGHT
BEGIN:STANDARD
TZOFFSETFROM:+0200
TZOFFSETTO:+0100
TZNAME:CET
DTSTART:19701025T030000
RRULE:FREQ=YEARLY;BYMONTH=10;BYDAY=-1SU
END:STANDARD
END:VTIMEZONE
BEGIN:VEVENT
UID:565cb4ddcc4b650e9e7e3aec1844df8a
SUMMARY:Bizet: Carmen - Internationale Maifestspiele Wiesbaden
URL:https://www.concerti.de/termine/bizet-carmen-hessisches-staatstheater-499555/
DTSTART;TZID=Europe/Berlin:20260614T180000
DTEND;TZID=Europe/Berlin:20260614T200000
DESCRIPTION:Interpreten: Victoria Karkacheva (Carmen)\,Dumitru Mitu (Don José)\, Byung Gil Kim (Escamillo)\, Alyona Rostovskaya (Micaëla)\, Camille Sherman (Mercédès)\, Jaeyoung Ha (Dancaïro)\, Leo McFall (Leitung)\, Uwe Eric Laufenberg (Regie)\, Fleuranne Brockway (Carmen)\, Stefano La Colla (Don José)\, Vitor Bispo (Escamillo)\, Alyona Rostovskaya (Micaëla)\, Camille Sherman (Mercédès)\, Jaeyoung Ha (Dancaïro)\, Leo McFall (Leitung)\, Paul Taubitz (Leitung)\, Uwe Eric Laufenberg (Regie) \nhttps://www.concerti.de/termine/bizet-carmen-hessisches-staatstheater-499555/
LOCATION:Hessisches Staatstheater\, Christian-Zais-Straße 3\, 65189 Wiesbaden
END:VEVENT
END:VCALENDAR