BEGIN:VCALENDAR
VERSION:2.0
PRODID:concerti//https://www.concerti.de
CALSCALE:GREGORIAN
BEGIN:VTIMEZONE
TZID:Europe/Berlin
X-LIC-LOCATION:Europe/Berlin
BEGIN:DAYLIGHT
TZOFFSETFROM:+0100
TZOFFSETTO:+0200
TZNAME:CEST
DTSTART:19700329T020000
RRULE:FREQ=YEARLY;BYMONTH=3;BYDAY=-1SU
END:DAYLIGHT
BEGIN:STANDARD
TZOFFSETFROM:+0200
TZOFFSETTO:+0100
TZNAME:CET
DTSTART:19701025T030000
RRULE:FREQ=YEARLY;BYMONTH=10;BYDAY=-1SU
END:STANDARD
END:VTIMEZONE
BEGIN:VEVENT
UID:c5707d04b1614e36df097855f2e8456f
SUMMARY:Sasha Witteveen (Kontrabass), Jorian van Nee (Klavier)
URL:https://www.concerti.de/termine/sasha-witteveen-kontrabass-jorian-van-nee-klavier-797652/
DTSTART;TZID=Europe/Berlin:20261217T193000
DTEND;TZID=Europe/Berlin:20261217T213000
DESCRIPTION:Interpreten: Sasha Witteveen (Kontrabass)\, Jorian van Nee (Klavier) \nProgramm: Werke von Ravel\, Rachmaninow\, Foley & Bottesini \nhttps://www.concerti.de/termine/sasha-witteveen-kontrabass-jorian-van-nee-klavier-797652/
LOCATION:Maxhaus\, Düsseldorf
END:VEVENT
END:VCALENDAR