BEGIN:VCALENDAR
VERSION:2.0
PRODID:concerti//https://www.concerti.de
CALSCALE:GREGORIAN
BEGIN:VTIMEZONE
TZID:Europe/Berlin
X-LIC-LOCATION:Europe/Berlin
BEGIN:DAYLIGHT
TZOFFSETFROM:+0100
TZOFFSETTO:+0200
TZNAME:CEST
DTSTART:19700329T020000
RRULE:FREQ=YEARLY;BYMONTH=3;BYDAY=-1SU
END:DAYLIGHT
BEGIN:STANDARD
TZOFFSETFROM:+0200
TZOFFSETTO:+0100
TZNAME:CET
DTSTART:19701025T030000
RRULE:FREQ=YEARLY;BYMONTH=10;BYDAY=-1SU
END:STANDARD
END:VTIMEZONE
BEGIN:VEVENT
UID:3f765d2093461618a1c1f1e9bc1304b1
SUMMARY:Mozart: Requiem d-Moll KV 626 - Herbstgold Festival Eisenstadt
URL:https://www.concerti.de/termine/mozart-requiem-d-moll-kv-626-797703/
DTSTART;TZID=Europe/Berlin:20260919T193000
DTEND;TZID=Europe/Berlin:20260919T213000
DESCRIPTION:Interpreten: Wiener Singverein\, Chamber Orchestra of Europe\, Julian Rachlin (Leitung) \nhttps://www.concerti.de/termine/mozart-requiem-d-moll-kv-626-797703/
LOCATION:Schloss Esterházy\, Eisenstadt
END:VEVENT
END:VCALENDAR