BEGIN:VCALENDAR
VERSION:2.0
PRODID:concerti//https://www.concerti.de
CALSCALE:GREGORIAN
BEGIN:VTIMEZONE
TZID:Europe/Berlin
X-LIC-LOCATION:Europe/Berlin
BEGIN:DAYLIGHT
TZOFFSETFROM:+0100
TZOFFSETTO:+0200
TZNAME:CEST
DTSTART:19700329T020000
RRULE:FREQ=YEARLY;BYMONTH=3;BYDAY=-1SU
END:DAYLIGHT
BEGIN:STANDARD
TZOFFSETFROM:+0200
TZOFFSETTO:+0100
TZNAME:CET
DTSTART:19701025T030000
RRULE:FREQ=YEARLY;BYMONTH=10;BYDAY=-1SU
END:STANDARD
END:VTIMEZONE
BEGIN:VEVENT
UID:e04cfc4da7c013bd63bad6a15fdea8b3
SUMMARY:Julian Rachlin (Violine), Boris Brovtsyn (Violine), Sarah McElravy (Viola), Amihai Grosz (Viola), Boris Andrianow (Violoncello), Rafaela Gromes (Violoncello) - Herbstgold Festival Eisenstadt
URL:https://www.concerti.de/termine/julian-rachlin-violine-boris-brovtsyn-violine-sarah-mcelravy-viola-amihai-grosz-viola-boris-andrianow-violoncello-rafaela-gromes-violoncello-797715/
DTSTART;TZID=Europe/Berlin:20260925T193000
DTEND;TZID=Europe/Berlin:20260925T213000
DESCRIPTION:Interpreten: Julian Rachlin (Violine)\, Boris Brovtsyn (Violine)\, Sarah McElravy (Viola)\, Amihai Grosz (Viola)\, Boris Andrianow (Violoncello)\, Rafaela Gromes (Violoncello) \nProgramm: Brahms: Streichsextett G-Dur op. 36\, Tschaikowsky. Streichsextett d-Moll op. 70 „Souvenir de Florence“ \nhttps://www.concerti.de/termine/julian-rachlin-violine-boris-brovtsyn-violine-sarah-mcelravy-viola-amihai-grosz-viola-boris-andrianow-violoncello-rafaela-gromes-violoncello-797715/
LOCATION:Schloss Esterházy\, Eisenstadt
END:VEVENT
END:VCALENDAR