BEGIN:VCALENDAR
VERSION:2.0
PRODID:concerti//https://www.concerti.de
CALSCALE:GREGORIAN
BEGIN:VTIMEZONE
TZID:Europe/Berlin
X-LIC-LOCATION:Europe/Berlin
BEGIN:DAYLIGHT
TZOFFSETFROM:+0100
TZOFFSETTO:+0200
TZNAME:CEST
DTSTART:19700329T020000
RRULE:FREQ=YEARLY;BYMONTH=3;BYDAY=-1SU
END:DAYLIGHT
BEGIN:STANDARD
TZOFFSETFROM:+0200
TZOFFSETTO:+0100
TZNAME:CET
DTSTART:19701025T030000
RRULE:FREQ=YEARLY;BYMONTH=10;BYDAY=-1SU
END:STANDARD
END:VTIMEZONE
BEGIN:VEVENT
UID:c430f2d6aa7b6de1ef0d987d8cfbe8ee
SUMMARY:Alexander Malofeev (Klavier), Jerusalem Symphony Orchestra, Julian Rachlin (Leitung) - Herbstgold Festival Eisenstadt
URL:https://www.concerti.de/termine/alexander-malofeev-klavier-jerusalem-symphony-orchestra-julian-rachlin-leitung-797718/
DTSTART;TZID=Europe/Berlin:20260926T200000
DTEND;TZID=Europe/Berlin:20260926T220000
DESCRIPTION:Interpreten: Alexander Malofeev (Klavier)\, Jerusalem Symphony Orchestra\, Julian Rachlin (Leitung) \nProgramm: Yusupov: Festive Pulse\, Tschaikowsky: Klavierkonzert Nr. 1 b-Moll op. 23 & Sinfonie Nr. 6 h-Moll op. 74 „Pathétique“ \nhttps://www.concerti.de/termine/alexander-malofeev-klavier-jerusalem-symphony-orchestra-julian-rachlin-leitung-797718/
LOCATION:Schloss Esterházy\, Eisenstadt
END:VEVENT
END:VCALENDAR