BEGIN:VCALENDAR
VERSION:2.0
PRODID:concerti//https://www.concerti.de
CALSCALE:GREGORIAN
BEGIN:VTIMEZONE
TZID:Europe/Berlin
X-LIC-LOCATION:Europe/Berlin
BEGIN:DAYLIGHT
TZOFFSETFROM:+0100
TZOFFSETTO:+0200
TZNAME:CEST
DTSTART:19700329T020000
RRULE:FREQ=YEARLY;BYMONTH=3;BYDAY=-1SU
END:DAYLIGHT
BEGIN:STANDARD
TZOFFSETFROM:+0200
TZOFFSETTO:+0100
TZNAME:CET
DTSTART:19701025T030000
RRULE:FREQ=YEARLY;BYMONTH=10;BYDAY=-1SU
END:STANDARD
END:VTIMEZONE
BEGIN:VEVENT
UID:5c923b33a865d074b567e8b1f875259e
SUMMARY:Herman: Ein Käfig voller Narren - Seefestspiele Mörbisch
URL:https://www.concerti.de/termine/herman-ein-kaefig-voller-narren-797743/
DTSTART;TZID=Europe/Berlin:20260814T200000
DTEND;TZID=Europe/Berlin:20260814T220000
DESCRIPTION:Interpreten: Alfons Haider (Albin/Zaza)\, Mark Seibert (Georges)\, Tom Bitterlich (Leitung)\, Andreas Gergen (Regie)\, Drew Sarich (Albin/Zaza)\, Mark Seibert (Georges)\, Tom Bitterlich (Leitung)\, Andreas Gergen (Regie) \nhttps://www.concerti.de/termine/herman-ein-kaefig-voller-narren-797743/
LOCATION:Seebühne\, Mörbisch am See
END:VEVENT
END:VCALENDAR