BEGIN:VCALENDAR
VERSION:2.0
PRODID:concerti//https://www.concerti.de
CALSCALE:GREGORIAN
BEGIN:VTIMEZONE
TZID:Europe/Berlin
X-LIC-LOCATION:Europe/Berlin
BEGIN:DAYLIGHT
TZOFFSETFROM:+0100
TZOFFSETTO:+0200
TZNAME:CEST
DTSTART:19700329T020000
RRULE:FREQ=YEARLY;BYMONTH=3;BYDAY=-1SU
END:DAYLIGHT
BEGIN:STANDARD
TZOFFSETFROM:+0200
TZOFFSETTO:+0100
TZNAME:CET
DTSTART:19701025T030000
RRULE:FREQ=YEARLY;BYMONTH=10;BYDAY=-1SU
END:STANDARD
END:VTIMEZONE
BEGIN:VEVENT
UID:dce9a8ecba36a0ef74d423426dd9de27
SUMMARY:Lehár: Der Göttergatte - Lehár Festival Bad Ischl
URL:https://www.concerti.de/termine/lehar-der-goettergatte-kongress-theaterhaus-798240/
DTSTART;TZID=Europe/Berlin:20260814T193000
DTEND;TZID=Europe/Berlin:20260814T213000
DESCRIPTION:Interpreten: Matjaž Stopinšek (Jupiter)\, Cinzia Zanovello (Juno)\, Lukas Karzel (Merkur)\, Marius Burkert (Leitung)\, Paul Schweinester (Regie) \nhttps://www.concerti.de/termine/lehar-der-goettergatte-kongress-theaterhaus-798240/
LOCATION:Kongress &amp\; Theaterhaus\, Kurhausstraße 8\, 4820 Bad Ischl
END:VEVENT
END:VCALENDAR