BEGIN:VCALENDAR
VERSION:2.0
PRODID:concerti//https://www.concerti.de
CALSCALE:GREGORIAN
BEGIN:VTIMEZONE
TZID:Europe/Berlin
X-LIC-LOCATION:Europe/Berlin
BEGIN:DAYLIGHT
TZOFFSETFROM:+0100
TZOFFSETTO:+0200
TZNAME:CEST
DTSTART:19700329T020000
RRULE:FREQ=YEARLY;BYMONTH=3;BYDAY=-1SU
END:DAYLIGHT
BEGIN:STANDARD
TZOFFSETFROM:+0200
TZOFFSETTO:+0100
TZNAME:CET
DTSTART:19701025T030000
RRULE:FREQ=YEARLY;BYMONTH=10;BYDAY=-1SU
END:STANDARD
END:VTIMEZONE
BEGIN:VEVENT
UID:e665bcb99f9ee4deba9407facd7f4fee
SUMMARY:Pablo Barragán (Klarinette), Liya Petrova (Violine), Amadeus Wiesensee (Klavier)
URL:https://www.concerti.de/termine/pablo-barragan-klarinette-liya-petrova-violine-amadeus-wiesensee-klavier-lac-lugano-arte-e-cultura-797561/
DTSTART;TZID=Europe/Berlin:20260531T170000
DTEND;TZID=Europe/Berlin:20260531T190000
DESCRIPTION:Interpreten: Pablo Barragán (Klarinette)\, Liya Petrova (Violine)\, Amadeus Wiesensee (Klavier) \nProgramm: Milhaud: Suite op. 157b\, Schoenfield: Four Souvenirs & Trio\, Bartók: Kontraste\, Horowitz: Klarinettensonatine\, Vivier: Stück für Violine & Klarinette \nhttps://www.concerti.de/termine/pablo-barragan-klarinette-liya-petrova-violine-amadeus-wiesensee-klavier-lac-lugano-arte-e-cultura-797561/
LOCATION:LAC Lugano Arte e Cultura\, Piazza Bernardino Luini  6\, 6900 Lugano
END:VEVENT
END:VCALENDAR