BEGIN:VCALENDAR
VERSION:2.0
PRODID:concerti//https://www.concerti.de
CALSCALE:GREGORIAN
BEGIN:VTIMEZONE
TZID:Europe/Berlin
X-LIC-LOCATION:Europe/Berlin
BEGIN:DAYLIGHT
TZOFFSETFROM:+0100
TZOFFSETTO:+0200
TZNAME:CEST
DTSTART:19700329T020000
RRULE:FREQ=YEARLY;BYMONTH=3;BYDAY=-1SU
END:DAYLIGHT
BEGIN:STANDARD
TZOFFSETFROM:+0200
TZOFFSETTO:+0100
TZNAME:CET
DTSTART:19701025T030000
RRULE:FREQ=YEARLY;BYMONTH=10;BYDAY=-1SU
END:STANDARD
END:VTIMEZONE
BEGIN:VEVENT
UID:5a3a036f3c7b8235583c077b15e8a1d5
SUMMARY:Wiener Sommernachtskonzert - Classionata Concert Days Solothurn
URL:https://www.concerti.de/termine/wiener-sommernachtskonzert-797570/
DTSTART;TZID=Europe/Berlin:20260619T193000
DTEND;TZID=Europe/Berlin:20260619T213000
DESCRIPTION:Interpreten: Claudia\, Goebl (Sopran)\, Iuri Ciobanu (Tenor)\, Wiener Opernball Orchester\, Andreas Spörri (Leitung) \nProgramm: Suppé: Ein Morgen\, ein Mittag ein Abend in Wien\, Mendelssohn: Ein Sommernachtstraum (Auszüge)\, J. Strauss (Sohn): Uhrenduett aus „Die Fledermaus“\,  Dvořák: Largo aus Sinfonie e-Moll op. 95 „Aus der Neuen Welt“\, Bernstein: West Side Story „Auszüge“\, Smetana: Die Moldau aus „Mein Vaterland“\, Schönherr: Praterfahrt anno 1880 u. a. \nhttps://www.concerti.de/termine/wiener-sommernachtskonzert-797570/
LOCATION:Konzertsaal\, Solothurn
END:VEVENT
END:VCALENDAR