BEGIN:VCALENDAR
VERSION:2.0
PRODID:concerti//https://www.concerti.de
CALSCALE:GREGORIAN
BEGIN:VTIMEZONE
TZID:Europe/Berlin
X-LIC-LOCATION:Europe/Berlin
BEGIN:DAYLIGHT
TZOFFSETFROM:+0100
TZOFFSETTO:+0200
TZNAME:CEST
DTSTART:19700329T020000
RRULE:FREQ=YEARLY;BYMONTH=3;BYDAY=-1SU
END:DAYLIGHT
BEGIN:STANDARD
TZOFFSETFROM:+0200
TZOFFSETTO:+0100
TZNAME:CET
DTSTART:19701025T030000
RRULE:FREQ=YEARLY;BYMONTH=10;BYDAY=-1SU
END:STANDARD
END:VTIMEZONE
BEGIN:VEVENT
UID:81091c4c5a2bd601260c0e3d5ba99f12
SUMMARY:Duo Molede
URL:https://www.concerti.de/termine/duo-molede-gemeindezentrum-iffeldorf-799346/
DTSTART;TZID=Europe/Berlin:20260926T190000
DTEND;TZID=Europe/Berlin:20260926T210000
DESCRIPTION:Interpreten: Duo Molede \nProgramm: Werke von Ravel u. a. \nhttps://www.concerti.de/termine/duo-molede-gemeindezentrum-iffeldorf-799346/
LOCATION:Gemeindezentrum Iffeldorf\, Hofmark 9\, 82393 Iffeldorf
END:VEVENT
END:VCALENDAR