BEGIN:VCALENDAR
VERSION:2.0
PRODID:concerti//https://www.concerti.de
CALSCALE:GREGORIAN
BEGIN:VTIMEZONE
TZID:Europe/Berlin
X-LIC-LOCATION:Europe/Berlin
BEGIN:DAYLIGHT
TZOFFSETFROM:+0100
TZOFFSETTO:+0200
TZNAME:CEST
DTSTART:19700329T020000
RRULE:FREQ=YEARLY;BYMONTH=3;BYDAY=-1SU
END:DAYLIGHT
BEGIN:STANDARD
TZOFFSETFROM:+0200
TZOFFSETTO:+0100
TZNAME:CET
DTSTART:19701025T030000
RRULE:FREQ=YEARLY;BYMONTH=10;BYDAY=-1SU
END:STANDARD
END:VTIMEZONE
BEGIN:VEVENT
UID:75630ad0f38c38dedc493a0fef88cce3
SUMMARY:Salaputia Brass Quintett
URL:https://www.concerti.de/termine/salaputia-brass-quintett-gemeindezentrum-iffeldorf-799349/
DTSTART;TZID=Europe/Berlin:20261017T190000
DTEND;TZID=Europe/Berlin:20261017T210000
DESCRIPTION:Interpreten: Salaputia Brass Quintett \nProgramm: Werke von Dukas\, Bernstein\, Crespo\, Tschaikowsky & Ellington \nhttps://www.concerti.de/termine/salaputia-brass-quintett-gemeindezentrum-iffeldorf-799349/
LOCATION:Gemeindezentrum Iffeldorf\, Hofmark 9\, 82393 Iffeldorf
END:VEVENT
END:VCALENDAR