BEGIN:VCALENDAR
VERSION:2.0
PRODID:concerti//https://www.concerti.de
CALSCALE:GREGORIAN
BEGIN:VTIMEZONE
TZID:Europe/Berlin
X-LIC-LOCATION:Europe/Berlin
BEGIN:DAYLIGHT
TZOFFSETFROM:+0100
TZOFFSETTO:+0200
TZNAME:CEST
DTSTART:19700329T020000
RRULE:FREQ=YEARLY;BYMONTH=3;BYDAY=-1SU
END:DAYLIGHT
BEGIN:STANDARD
TZOFFSETFROM:+0200
TZOFFSETTO:+0100
TZNAME:CET
DTSTART:19701025T030000
RRULE:FREQ=YEARLY;BYMONTH=10;BYDAY=-1SU
END:STANDARD
END:VTIMEZONE
BEGIN:VEVENT
UID:98600a4f0c3880bff739c374ba99202b
SUMMARY:Camille Thomas (Violoncello), Kammerphilharmonie Ingolstadt, Ariel Zuckermann (Leitung)
URL:https://www.concerti.de/termine/camille-thomas-violoncello-georgisches-kammerorchester-ingolstadt-ariel-zuckermann-leitung-stadttheater-ingolstadt-799372/
DTSTART;TZID=Europe/Berlin:20260618T200000
DTEND;TZID=Europe/Berlin:20260618T220000
DESCRIPTION:Interpreten: Camille Thomas (Violoncello)\, Kammerphilharmonie Ingolstadt\, Ariel Zuckermann (Leitung) \nProgramm: Prokofjew: Sinfonie Nr. 1 D-Dur op. 25\, Say: Never give up\, Beethoven: Sinfonie Nr. 4 B-Dur op. 60 \nhttps://www.concerti.de/termine/camille-thomas-violoncello-georgisches-kammerorchester-ingolstadt-ariel-zuckermann-leitung-stadttheater-ingolstadt-799372/
LOCATION:Stadttheater Ingolstadt\, Schloßlände 1\, 85049 Ingolstadt
END:VEVENT
END:VCALENDAR