BEGIN:VCALENDAR
VERSION:2.0
PRODID:concerti//https://www.concerti.de
CALSCALE:GREGORIAN
BEGIN:VTIMEZONE
TZID:Europe/Berlin
X-LIC-LOCATION:Europe/Berlin
BEGIN:DAYLIGHT
TZOFFSETFROM:+0100
TZOFFSETTO:+0200
TZNAME:CEST
DTSTART:19700329T020000
RRULE:FREQ=YEARLY;BYMONTH=3;BYDAY=-1SU
END:DAYLIGHT
BEGIN:STANDARD
TZOFFSETFROM:+0200
TZOFFSETTO:+0100
TZNAME:CET
DTSTART:19701025T030000
RRULE:FREQ=YEARLY;BYMONTH=10;BYDAY=-1SU
END:STANDARD
END:VTIMEZONE
BEGIN:VEVENT
UID:b847405aa65d1cc6fabf55d075508316
SUMMARY:Andrei Ioniță (Violoncello), Hofer Symphoniker, Martijn Dendievel (Leitung)
URL:https://www.concerti.de/termine/andrei-ionita-violoncello-hofer-symphoniker-martijn-dendievel-leitung-freiheitshalle-hof-799530/
DTSTART;TZID=Europe/Berlin:20260619T193000
DTEND;TZID=Europe/Berlin:20260619T213000
DESCRIPTION:Interpreten: Andrei Ioniță (Violoncello)\, Hofer Symphoniker\, Martijn Dendievel (Leitung) \nProgramm: Weinberg Cellokonzert c-Moll op. 43\, Schostakowitsch: Sinfonie Nr. 10 e-Moll op. 93 \nhttps://www.concerti.de/termine/andrei-ionita-violoncello-hofer-symphoniker-martijn-dendievel-leitung-freiheitshalle-hof-799530/
LOCATION:Freiheitshalle\, Kulmbacher Straße 4\, 95030 Hof
END:VEVENT
END:VCALENDAR