BEGIN:VCALENDAR
VERSION:2.0
PRODID:concerti//https://www.concerti.de
CALSCALE:GREGORIAN
BEGIN:VTIMEZONE
TZID:Europe/Berlin
X-LIC-LOCATION:Europe/Berlin
BEGIN:DAYLIGHT
TZOFFSETFROM:+0100
TZOFFSETTO:+0200
TZNAME:CEST
DTSTART:19700329T020000
RRULE:FREQ=YEARLY;BYMONTH=3;BYDAY=-1SU
END:DAYLIGHT
BEGIN:STANDARD
TZOFFSETFROM:+0200
TZOFFSETTO:+0100
TZNAME:CET
DTSTART:19701025T030000
RRULE:FREQ=YEARLY;BYMONTH=10;BYDAY=-1SU
END:STANDARD
END:VTIMEZONE
BEGIN:VEVENT
UID:0e830312e15119591d12261155f8a818
SUMMARY:Carolin Widmann (Violine), Nils Mönkemeyer (Viola), Julian Steckel (Violoncello), William Youn (Klavier)
URL:https://www.concerti.de/termine/carolin-widmann-violine-nils-moenkemeyer-viola-julian-steckel-violoncello-william-youn-klavier-799963/
DTSTART;TZID=Europe/Berlin:20260503T180000
DTEND;TZID=Europe/Berlin:20260503T200000
DESCRIPTION:Interpreten: Carolin Widmann (Violine)\, Nils Mönkemeyer (Viola)\, Julian Steckel (Violoncello)\, William Youn (Klavier) \nProgramm: Bridge: Phantasy Quartet fis-Moll\, Lekeu: Klavierquartett Nr. 4 h-Moll\, Brahms: Klavierquartett g-Moll op. 25 \nhttps://www.concerti.de/termine/carolin-widmann-violine-nils-moenkemeyer-viola-julian-steckel-violoncello-william-youn-klavier-799963/
LOCATION:Rathaus\, Aachen
END:VEVENT
END:VCALENDAR